BEGIN:VCALENDAR
VERSION:2.0
PRODID:-//NADI Kg Tunku Abdul Rahman Putra - ECPv6.15.13.1//NONSGML v1.0//EN
CALSCALE:GREGORIAN
METHOD:PUBLISH
X-WR-CALNAME:NADI Kg Tunku Abdul Rahman Putra
X-ORIGINAL-URL:https://kgtunkuabdulrahman.nadi.my
X-WR-CALDESC:Events for NADI Kg Tunku Abdul Rahman Putra
REFRESH-INTERVAL;VALUE=DURATION:PT1H
X-Robots-Tag:noindex
X-PUBLISHED-TTL:PT1H
BEGIN:VTIMEZONE
TZID:UTC
BEGIN:STANDARD
TZOFFSETFROM:+0000
TZOFFSETTO:+0000
TZNAME:UTC
DTSTART:20230101T000000
END:STANDARD
END:VTIMEZONE
BEGIN:VEVENT
DTSTART;TZID=UTC:20240407T150000
DTEND;TZID=UTC:20240407T160000
DTSTAMP:20260421T012542
CREATED:20240417T224850Z
LAST-MODIFIED:20240417T224850Z
UID:1507-1712502000-1712505600@kgtunkuabdulrahman.nadi.my
SUMMARY:Poster Hari Raya
DESCRIPTION:
URL:https://kgtunkuabdulrahman.nadi.my/event/poster-hari-raya/
LOCATION:NADI KG TAR PUTRA\, NADI KG TAR PUTRA
CATEGORIES:DEFAULT
END:VEVENT
END:VCALENDAR